BEGIN:VCALENDAR
VERSION:2.0
PRODID:-//ChamberMaster//Event Calendar 2.0//EN
METHOD:PUBLISH
X-PUBLISHED-TTL:P3D
REFRESH-INTERVAL:P3D
CALSCALE:GREGORIAN
BEGIN:VEVENT
DTSTART:20260511T160000Z
DTEND:20260511T171500Z
X-MICROSOFT-CDO-ALLDAYEVENT:FALSE
SUMMARY:Government & Community Affairs Roundtable
DESCRIPTION:Our Government & Community Affairs Roundtable features discussions focused on key state\, local\, and federal issues. Open to any Chamber member or municipal partner who would like to share ideas and take action.\n\n\n\nThank you to our Roundtable series sponsors: M&T Bank and Rasa Spa.
X-ALT-DESC;FMTTYPE=text/html:<span style="font-size:16px\;">Our Government &amp\; Community Affairs Roundtable features discussions focused on key state\, local\, and federal issues. Open to any Chamber member or municipal partner who would like to share ideas and take action.<br />\n<br />\nThank you to our Roundtable series sponsors: <a href="https://locations.mtb.com/ny/ithaca/bank-branches-and-atms-ithaca-ny-461.html">M&amp\;T Bank</a>&nbsp\;and <a href="https://www.rasaspa.com/">Rasa Spa</a>.</span>
LOCATION:Tompkins Chamber 124 Brindley St Ithaca\, NY 14850
UID:e.1313.194127
SEQUENCE:3
DTSTAMP:20260420T233941Z
URL:https://chambermastertest.awp.rocks/events/details/government-community-affairs-roundtable-194127
END:VEVENT

END:VCALENDAR
